BEGIN:VCALENDAR
VERSION:2.0
PRODID:-//Squarespace Inc/Squarespace 6//v6//EN
BEGIN:VEVENT
UID:5c86e0fd104c7bfc75704e8f@squarespace.com
DTSTAMP:20190322T054842Z
DTSTART:20190227T230000Z
DTEND:20190228T000000Z
SUMMARY:Way Of The Flower
GEO:-37.823876;144.967603
LOCATION:Primrose potter salon\, Melbourne Recital Centre
END:VEVENT
END:VCALENDAR
