BEGIN:VCALENDAR
VERSION:2.0
PRODID:-//Squarespace Inc/Squarespace 6//v6//EN
BEGIN:VEVENT
UID:5e336b1c2236ba031615b44a@squarespace.com
DTSTAMP:20200204T072838Z
DTSTART:20200128T083000Z
DTEND:20200128T113000Z
SUMMARY:Ania Massetti Piano +
GEO:40.720756;-74.000761
LOCATION:Tempo rubato\, 34 Breese Street\, Brunswick\, VIC\, 3056\, Austral
 ia
END:VEVENT
END:VCALENDAR
