BEGIN:VCALENDAR
VERSION:2.0
PRODID:-//Squarespace Inc/Squarespace 6//v6//EN
BEGIN:VEVENT
UID:5dd4cbc905d4b735dcd7fe76@squarespace.com
DTSTAMP:20200204T072806Z
DTSTART:20200220T000000Z
DTEND:20200220T010000Z
SUMMARY:Terramusica: Silk &amp\; Ink
GEO:-37.823876;144.967603
LOCATION:Melbourne Recital Centre
END:VEVENT
END:VCALENDAR
