BEGIN:VCALENDAR
VERSION:2.0
PRODID:-//Squarespace Inc/Squarespace 6//v6//EN
BEGIN:VEVENT
UID:5cc502e8104c7b57b280ea11@squarespace.com
DTSTAMP:20190528T072331Z
DTSTART:20190720T220000Z
DTEND:20190721T000000Z
SUMMARY:Silk &amp\; Bamboo
GEO:-37.795909;144.968521
LOCATION:Church of All Nations\, Carlton
END:VEVENT
END:VCALENDAR
