BEGIN:VCALENDAR
VERSION:2.0
PRODID:-//Squarespace Inc/Squarespace 6//v6//EN
BEGIN:VEVENT
UID:5cc502424ca7560001596f17@squarespace.com
DTSTAMP:20190528T072203Z
DTSTART:20190602T180000Z
DTEND:20190602T200000Z
SUMMARY:A Sunday Afternoon of Music from China &amp\; Japan
GEO:-37.914776;145.133851
LOCATION:Monash MPavilion\, 26 Ancora Imparo Way
END:VEVENT
END:VCALENDAR
