BEGIN:VCALENDAR
VERSION:2.0
PRODID:-//Squarespace Inc/Squarespace 6//v6//EN
BEGIN:VEVENT
UID:5cc5004ab2512d00018a5576@squarespace.com
DTSTAMP:20190428T013014Z
DTSTART:20190511T000000Z
DTEND:20190511T020000Z
SUMMARY:Moonlight: Poetry\, Shakuhachi\, and Koto
GEO:-37.825366;145.122798
LOCATION:Box Hill Community Arts Centre
END:VEVENT
END:VCALENDAR
