BEGIN:VCALENDAR
VERSION:2.0
PRODID:-//Squarespace Inc/Squarespace 6//v6//EN
BEGIN:VEVENT
UID:5c9463a3e5e5f01c54775f44@squarespace.com
DTSTAMP:20190322T053917Z
DTSTART:20181014T150000Z
DTEND:20181014T180000Z
SUMMARY:Sakura Picnic Day
END:VEVENT
END:VCALENDAR
