BEGIN:VCALENDAR
VERSION:2.0
PRODID:-//Squarespace Inc/Squarespace 6//v6//EN
BEGIN:VEVENT
UID:5c86e092c83025e9571ce67d@squarespace.com
DTSTAMP:20190322T053850Z
DTSTART:20190324T193000Z
DTEND:20190324T213000Z
SUMMARY:Infusion
END:VEVENT
END:VCALENDAR
