BEGIN:VCALENDAR
VERSION:2.0
PRODID:-//Squarespace Inc/Squarespace 6//v6//EN
BEGIN:VEVENT
UID:5dd4cafae6c45a5b97250d81@squarespace.com
DTSTAMP:20191120T053517Z
DTSTART:20191130T143000Z
DTEND:20191130T203000Z
SUMMARY:Geelong Japanese  Summer Festival
END:VEVENT
END:VCALENDAR
