BEGIN:VCALENDAR
VERSION:2.0
PRODID:-//Squarespace Inc/Squarespace 6//v6//EN
BEGIN:VEVENT
UID:5c9461ede79c703f727dcf5c@squarespace.com
DTSTAMP:20190322T054916Z
DTSTART:20190119T193000Z
DTEND:20190119T203000Z
SUMMARY:Brandon Lee Koto Student Recital
END:VEVENT
END:VCALENDAR
