BEGIN:VCALENDAR
VERSION:2.0
PRODID:-//Squarespace Inc/Squarespace 6//v6//EN
BEGIN:VEVENT
UID:5c9469754785d3440eadb41e@squarespace.com
DTSTAMP:20190322T053300Z
DTSTART:20180601T233000Z
DTEND:20180602T023000Z
SUMMARY:Koto Transformation - Australis
END:VEVENT
END:VCALENDAR
