BEGIN:VCALENDAR
VERSION:2.0
PRODID:-//Squarespace Inc/Squarespace 6//v6//EN
BEGIN:VEVENT
UID:5c9473b771c10b1e88788a6f@squarespace.com
DTSTAMP:20190322T054018Z
DTSTART:20180421T223000Z
DTEND:20180421T233000Z
SUMMARY:Beautiful Sounds of Okinawa
END:VEVENT
END:VCALENDAR
