BEGIN:VCALENDAR
VERSION:2.0
PRODID:-//Squarespace Inc/Squarespace 6//v6//EN
BEGIN:VEVENT
UID:5c946843f4e1fc7eec3bc4b2@squarespace.com
DTSTAMP:20190322T045527Z
DTSTART:20181027T203000Z
DTEND:20181027T220000Z
SUMMARY:Cherry Blossom Concert
END:VEVENT
END:VCALENDAR
