BEGIN:VCALENDAR
VERSION:2.0
PRODID:-//Squarespace Inc/Squarespace 6//v6//EN
BEGIN:VEVENT
UID:5c94745b1905f497ec353be5@squarespace.com
DTSTAMP:20190322T054035Z
DTSTART:20171022T210000Z
DTEND:20171022T233000Z
SUMMARY:Uta (Brandon Lee Koto Recital)
END:VEVENT
END:VCALENDAR
